BEGIN:VCALENDAR
VERSION:2.0
PRODID:-//Plone.org//NONSGML plone.app.event//EN
X-WR-TIMEZONE:Europe/Madrid
BEGIN:VEVENT
SUMMARY:Conferència 'Raons Públiques'
DTSTART;TZID=Europe/Madrid:20160419T103000
DTSTAMP:20260420T201420Z
UID:c501d9c894e44d759dc6bba36e09fe7c@etsav.upc.edu
ATTENDEE;CN="Andrés Martínez, coop. Raons Públiques";ROLE=REQ-PARTICIPA
 NT:Andrés Martínez, coop. Raons Públiques
CREATED:20160401T213849Z
LAST-MODIFIED:20160401T213855Z
LOCATION:Sala d'actes ETSAV
URL:https://etsav.upc.edu/ca/esdeveniments/conferencia-raons-publiques
END:VEVENT
BEGIN:VTIMEZONE
TZID:Europe/Madrid
X-LIC-LOCATION:Europe/Madrid
BEGIN:DAYLIGHT
DTSTART:20160327T030000
TZNAME:CEST
TZOFFSETFROM:+0100
TZOFFSETTO:+0200
END:DAYLIGHT
END:VTIMEZONE
END:VCALENDAR
