BEGIN:VCALENDAR
VERSION:2.0
PRODID:-//Plone.org//NONSGML plone.app.event//EN
X-WR-TIMEZONE:Europe/Madrid
BEGIN:VEVENT
SUMMARY:Conferència 'Arquitectures / Professions'
DTSTART;TZID=Europe/Madrid:20160421T103000
DTSTAMP:20260420T040015Z
UID:45f0521c64c14c0780d89b03c27a4c4f@etsav.upc.edu
ATTENDEE;CN="Col·lectiu RUSC, Xavi Vancells";ROLE=REQ-PARTICIPANT:Col·le
 ctiu RUSC, Xavi Vancells
CREATED:20160401T215743Z
LAST-MODIFIED:20160401T215753Z
LOCATION:Sala d'actes ETSAV
URL:https://etsav.upc.edu/ca/esdeveniments/conferencia-arquitectures-profe
 ssions
END:VEVENT
BEGIN:VTIMEZONE
TZID:Europe/Madrid
X-LIC-LOCATION:Europe/Madrid
BEGIN:DAYLIGHT
DTSTART:20160327T030000
TZNAME:CEST
TZOFFSETFROM:+0100
TZOFFSETTO:+0200
END:DAYLIGHT
END:VTIMEZONE
END:VCALENDAR
