BEGIN:VCALENDAR
VERSION:2.0
PRODID:-//Plone.org//NONSGML plone.app.event//EN
X-WR-TIMEZONE:Europe/Madrid
BEGIN:VEVENT
SUMMARY:Presentació del 35è curset de Patrimoni Arquitectònic
DTSTART;TZID=Europe/Madrid:20150309T130000
DTEND;TZID=Europe/Madrid:20150309T140000
DTSTAMP:20260420T221242Z
UID:6844a270-95fe-4744-b4ff-378e0ce21381@peter.upc.edu:11901
CREATED:20150309T124342Z
DESCRIPTION:El dijous dia 25 a les 14h30 a l'aula T3 es farà la presentac
 ió del XXXV Curset - Jornades Internacionals sobre la intervenció en el 
 patrimoni arquitectònic
LAST-MODIFIED:20150309T124343Z
LOCATION:Aula T-3
URL:https://etsav.upc.edu/ca/esdeveniments/1047
END:VEVENT
BEGIN:VTIMEZONE
TZID:Europe/Madrid
X-LIC-LOCATION:Europe/Madrid
BEGIN:STANDARD
DTSTART:20141026T020000
TZNAME:CET
TZOFFSETFROM:+0200
TZOFFSETTO:+0100
END:STANDARD
END:VTIMEZONE
END:VCALENDAR
