BEGIN:VCALENDAR
VERSION:2.0
PRODID:-//Plone.org//NONSGML plone.app.event//EN
X-WR-TIMEZONE:Europe/Madrid
BEGIN:VEVENT
SUMMARY:Presentació del llibre "La Mejor Universidad del Mundo"
DTSTART;TZID=Europe/Madrid:20150309T130000
DTEND;TZID=Europe/Madrid:20150309T140000
DTSTAMP:20260420T221241Z
UID:073a7621-5b36-4eea-afb5-f3ad16b3eefb@peter.upc.edu:11901
CREATED:20150309T124341Z
DESCRIPTION:L'autor\, Joan Cortadellas ens convida a fer un recorregut per
  una universitat fictícia\, on passen coses innovadores\, que la farien u
 na bona universitat\, diferent de l'actual. 
LAST-MODIFIED:20150309T124342Z
LOCATION:Sala d'actes
URL:https://etsav.upc.edu/ca/esdeveniments/1046
END:VEVENT
BEGIN:VTIMEZONE
TZID:Europe/Madrid
X-LIC-LOCATION:Europe/Madrid
BEGIN:STANDARD
DTSTART:20141026T020000
TZNAME:CET
TZOFFSETFROM:+0200
TZOFFSETTO:+0100
END:STANDARD
END:VTIMEZONE
END:VCALENDAR
