BEGIN:VCALENDAR
VERSION:2.0
PRODID:-//Plone.org//NONSGML plone.app.event//EN
X-WR-TIMEZONE:Europe/Madrid
BEGIN:VEVENT
SUMMARY:TAP B: Presentació llibre
DTSTART;TZID=Europe/Madrid:20150309T130000
DTEND;TZID=Europe/Madrid:20150309T140000
DTSTAMP:20260420T221242Z
UID:cdcfa217-40ed-477b-97f7-4a393d5be241@peter.upc.edu:11901
CREATED:20150309T124314Z
DESCRIPTION:El proper dilluns 11 de juny a les 12:30 h a l'Aula Est-1 es f
 arà la presentació del llibre 13 propostes. Construir amb l'aigua a Par
 ís pertanyent al núm 2 de la col•lecció Edifici Públic + Espai Públ
 ic del TAP B
LAST-MODIFIED:20150309T124315Z
LOCATION:Etsav Est-1
URL:https://etsav.upc.edu/ca/esdeveniments/1028
END:VEVENT
BEGIN:VTIMEZONE
TZID:Europe/Madrid
X-LIC-LOCATION:Europe/Madrid
BEGIN:STANDARD
DTSTART:20141026T020000
TZNAME:CET
TZOFFSETFROM:+0200
TZOFFSETTO:+0100
END:STANDARD
END:VTIMEZONE
END:VCALENDAR
